BEGIN:VCALENDAR
VERSION:2.0
PRODID:-//eventon.com NONSGML v1.0//EN
CALSCALE:GREGORIAN
METHOD:PUBLISH
BEGIN:VEVENT
UID:69e8c4902cafc
DTSTAMP:20260422T125232Z
DTSTART:20260501
DTEND:20260502
LOCATION:
SUMMARY:DREILAND -reloaded-
DESCRIPTION:vielleicht erinnert ihr euch noch an das alte Dreiland.An lange
  Tage draußen\,  gute Musik\,  kalte Drinks –und dieses Gefühl\,  einfa
 ch am richtigen Ort zu sein. Genau dieses Gefühl bringen wir zurück.Für 
 einen Tag. An einem neuen Ort. am 1. Mai von 13-22 Uhr Burger &amp; PommesD
 aydrinkingLive Music Ein versteckter Hinterhof[..]\nhttps://www.dreigang.ne
 t/events/dreiland-reloaded/
URL:https://www.dreigang.net/events/dreiland-reloaded/
END:VEVENT
END:VCALENDAR